BEGIN:VCALENDAR
VERSION:2.0
PRODID:-//Forum fuer Politik und Kultur e.V.//DE
BEGIN:VEVENT
UID:1013@yforum-politik-kultur.de
DTSTAMP:20260422T084608Z
DTSTART:20251201T180000Z
SUMMARY:Die Grenzen der Mitbestimmung ? Die soziale Gestaltung der sogenannten „Künstlichen   Intelligenz“ erfordert neue Formate der Mitbestimmung !
DESCRIPTION: Welf Schröter / Diskussion: Lars Albert / Moderation: Cosima Schmitt
LOCATION:Leineschloss, Hannah-Arendt-Platz 1, 30159 Hannover
URL:https://www.forum-politik-kultur.de/die-grenzen-der-mitbestimmung-die-soziale-gestaltung-der-sogenannten-kuenstlichen-intelligenz-erfordert-neue-formate-der-mitbestimmung/
END:VEVENT
END:VCALENDAR
